BEGIN:VCALENDAR
VERSION:2.0
PRODID:-//PLK HKTA YUEN YUEN PRIMARY SCHOOL - ECPv6.15.14//NONSGML v1.0//EN
CALSCALE:GREGORIAN
METHOD:PUBLISH
X-ORIGINAL-URL:https://yyps.edu.hk
X-WR-CALDESC:Events for PLK HKTA YUEN YUEN PRIMARY SCHOOL
REFRESH-INTERVAL;VALUE=DURATION:PT1H
X-Robots-Tag:noindex
X-PUBLISHED-TTL:PT1H
BEGIN:VTIMEZONE
TZID:Asia/Hong_Kong
BEGIN:STANDARD
TZOFFSETFROM:+0800
TZOFFSETTO:+0800
TZNAME:HKT
DTSTART:20210101T000000
END:STANDARD
END:VTIMEZONE
BEGIN:VEVENT
DTSTART;VALUE=DATE:20220704
DTEND;VALUE=DATE:20220709
DTSTAMP:20260421T234249
CREATED:20220611T133343Z
LAST-MODIFIED:20220611T133940Z
UID:8992-1656892800-1657324799@yyps.edu.hk
SUMMARY:Assessment Week
DESCRIPTION:
URL:https://yyps.edu.hk/event/assessment-week/
CATEGORIES:General
END:VEVENT
END:VCALENDAR